BEGIN:VCALENDAR
VERSION:2.0
PRODID:-//wp-events-plugin.com//6.6.4.4//EN
TZID:Asia/Tokyo
X-WR-TIMEZONE:Asia/Tokyo
BEGIN:VEVENT
UID:27@i-sma.or.jp
DTSTART;TZID=Asia/Tokyo:20260526T183000
DTEND;TZID=Asia/Tokyo:20260526T200000
DTSTAMP:20260424T014156Z
URL:https://i-sma.or.jp/events/%e7%ac%ac19%e5%9b%9e-i-sma%e5%8b%89%e5%bc%b
 7%e4%bc%9a-5%e6%9c%8826%e6%97%a5-%e7%81%ab1830%ef%bd%9e/
SUMMARY:第19回 i-SMA勉強会 5月26日 (火)18:30～オンライン開
 催
DESCRIPTION:第19回  i-SMA勉強会 5月26日 (火)のご案内\n
ATTACH;FMTTYPE=image/jpeg:https://i-sma.or.jp/wp-content/uploads/2025/01/A
 基本ロゴ.png
CATEGORIES:セミナー
END:VEVENT
BEGIN:VTIMEZONE
TZID:Asia/Tokyo
X-LIC-LOCATION:Asia/Tokyo
BEGIN:STANDARD
DTSTART:20250526T183000
TZOFFSETFROM:+0900
TZOFFSETTO:+0900
TZNAME:JST
END:STANDARD
END:VTIMEZONE
END:VCALENDAR